BEGIN:VCALENDAR
VERSION:2.0
PRODID:-//Winnetu Oceanside Resort - ECPv6.15.20//NONSGML v1.0//EN
CALSCALE:GREGORIAN
METHOD:PUBLISH
X-WR-CALNAME:Winnetu Oceanside Resort
X-ORIGINAL-URL:https://www.winnetu.com
X-WR-CALDESC:Events for Winnetu Oceanside Resort
REFRESH-INTERVAL;VALUE=DURATION:PT1H
X-Robots-Tag:noindex
X-PUBLISHED-TTL:PT1H
BEGIN:VTIMEZONE
TZID:America/New_York
BEGIN:DAYLIGHT
TZOFFSETFROM:-0500
TZOFFSETTO:-0400
TZNAME:EDT
DTSTART:20250309T070000
END:DAYLIGHT
BEGIN:STANDARD
TZOFFSETFROM:-0400
TZOFFSETTO:-0500
TZNAME:EST
DTSTART:20251102T060000
END:STANDARD
BEGIN:DAYLIGHT
TZOFFSETFROM:-0500
TZOFFSETTO:-0400
TZNAME:EDT
DTSTART:20260308T070000
END:DAYLIGHT
BEGIN:STANDARD
TZOFFSETFROM:-0400
TZOFFSETTO:-0500
TZNAME:EST
DTSTART:20261101T060000
END:STANDARD
BEGIN:DAYLIGHT
TZOFFSETFROM:-0500
TZOFFSETTO:-0400
TZNAME:EDT
DTSTART:20270314T070000
END:DAYLIGHT
BEGIN:STANDARD
TZOFFSETFROM:-0400
TZOFFSETTO:-0500
TZNAME:EST
DTSTART:20271107T060000
END:STANDARD
END:VTIMEZONE
BEGIN:VEVENT
DTSTART;TZID=America/New_York:20260908T080000
DTEND;TZID=America/New_York:20260908T090000
DTSTAMP:20260423T163729
CREATED:20260324T211744Z
LAST-MODIFIED:20260326T152211Z
UID:10002131-1788854400-1788858000@www.winnetu.com
SUMMARY:Functional Strength with Alyssa
DESCRIPTION:A full-body strength class centered on fundamental movement patterns—hinge\, squat\, push\, pull\, improving control & stability. \nNo signup required. Mats Provided. For rain cancellation info\, please contact the Front Desk.
URL:https://www.winnetu.com/event/functional-strength-with-alyssa-5/2026-09-08/
CATEGORIES:Functional Strength
ATTACH;FMTTYPE=image/png:https://www.winnetu.com/wp-content/uploads/2026/03/Untitled-600-x-600-px-22.png
END:VEVENT
BEGIN:VEVENT
DTSTART;TZID=America/New_York:20260909T080000
DTEND;TZID=America/New_York:20260909T090000
DTSTAMP:20260423T163729
CREATED:20260324T211744Z
LAST-MODIFIED:20260326T152211Z
UID:10002132-1788940800-1788944400@www.winnetu.com
SUMMARY:Functional Strength with Alyssa
DESCRIPTION:A full-body strength class centered on fundamental movement patterns—hinge\, squat\, push\, pull\, improving control & stability. \nNo signup required. Mats Provided. For rain cancellation info\, please contact the Front Desk.
URL:https://www.winnetu.com/event/functional-strength-with-alyssa-5/2026-09-09/
CATEGORIES:Functional Strength
ATTACH;FMTTYPE=image/png:https://www.winnetu.com/wp-content/uploads/2026/03/Untitled-600-x-600-px-22.png
END:VEVENT
BEGIN:VEVENT
DTSTART;TZID=America/New_York:20260910T080000
DTEND;TZID=America/New_York:20260910T090000
DTSTAMP:20260423T163729
CREATED:20260324T211744Z
LAST-MODIFIED:20260326T152211Z
UID:10002133-1789027200-1789030800@www.winnetu.com
SUMMARY:Functional Strength with Alyssa
DESCRIPTION:A full-body strength class centered on fundamental movement patterns—hinge\, squat\, push\, pull\, improving control & stability. \nNo signup required. Mats Provided. For rain cancellation info\, please contact the Front Desk.
URL:https://www.winnetu.com/event/functional-strength-with-alyssa-5/2026-09-10/
CATEGORIES:Functional Strength
ATTACH;FMTTYPE=image/png:https://www.winnetu.com/wp-content/uploads/2026/03/Untitled-600-x-600-px-22.png
END:VEVENT
BEGIN:VEVENT
DTSTART;TZID=America/New_York:20260911T080000
DTEND;TZID=America/New_York:20260911T090000
DTSTAMP:20260423T163729
CREATED:20260324T211744Z
LAST-MODIFIED:20260326T152211Z
UID:10002134-1789113600-1789117200@www.winnetu.com
SUMMARY:Functional Strength with Alyssa
DESCRIPTION:A full-body strength class centered on fundamental movement patterns—hinge\, squat\, push\, pull\, improving control & stability. \nNo signup required. Mats Provided. For rain cancellation info\, please contact the Front Desk.
URL:https://www.winnetu.com/event/functional-strength-with-alyssa-5/2026-09-11/
CATEGORIES:Functional Strength
ATTACH;FMTTYPE=image/png:https://www.winnetu.com/wp-content/uploads/2026/03/Untitled-600-x-600-px-22.png
END:VEVENT
BEGIN:VEVENT
DTSTART;TZID=America/New_York:20260912T080000
DTEND;TZID=America/New_York:20260912T090000
DTSTAMP:20260423T163729
CREATED:20260324T211744Z
LAST-MODIFIED:20260326T152211Z
UID:10002135-1789200000-1789203600@www.winnetu.com
SUMMARY:Functional Strength with Alyssa
DESCRIPTION:A full-body strength class centered on fundamental movement patterns—hinge\, squat\, push\, pull\, improving control & stability. \nNo signup required. Mats Provided. For rain cancellation info\, please contact the Front Desk.
URL:https://www.winnetu.com/event/functional-strength-with-alyssa-5/2026-09-12/
CATEGORIES:Functional Strength
ATTACH;FMTTYPE=image/png:https://www.winnetu.com/wp-content/uploads/2026/03/Untitled-600-x-600-px-22.png
END:VEVENT
END:VCALENDAR