BEGIN:VCALENDAR
VERSION:2.0
PRODID:-//Winnetu Oceanside Resort - ECPv6.15.20//NONSGML v1.0//EN
CALSCALE:GREGORIAN
METHOD:PUBLISH
X-WR-CALNAME:Winnetu Oceanside Resort
X-ORIGINAL-URL:https://www.winnetu.com
X-WR-CALDESC:Events for Winnetu Oceanside Resort
REFRESH-INTERVAL;VALUE=DURATION:PT1H
X-Robots-Tag:noindex
X-PUBLISHED-TTL:PT1H
BEGIN:VTIMEZONE
TZID:America/New_York
BEGIN:DAYLIGHT
TZOFFSETFROM:-0500
TZOFFSETTO:-0400
TZNAME:EDT
DTSTART:20250309T070000
END:DAYLIGHT
BEGIN:STANDARD
TZOFFSETFROM:-0400
TZOFFSETTO:-0500
TZNAME:EST
DTSTART:20251102T060000
END:STANDARD
BEGIN:DAYLIGHT
TZOFFSETFROM:-0500
TZOFFSETTO:-0400
TZNAME:EDT
DTSTART:20260308T070000
END:DAYLIGHT
BEGIN:STANDARD
TZOFFSETFROM:-0400
TZOFFSETTO:-0500
TZNAME:EST
DTSTART:20261101T060000
END:STANDARD
BEGIN:DAYLIGHT
TZOFFSETFROM:-0500
TZOFFSETTO:-0400
TZNAME:EDT
DTSTART:20270314T070000
END:DAYLIGHT
BEGIN:STANDARD
TZOFFSETFROM:-0400
TZOFFSETTO:-0500
TZNAME:EST
DTSTART:20271107T060000
END:STANDARD
END:VTIMEZONE
BEGIN:VEVENT
DTSTART;TZID=America/New_York:20260831T071500
DTEND;TZID=America/New_York:20260831T080000
DTSTAMP:20260423T132102
CREATED:20260324T211001Z
LAST-MODIFIED:20260326T142547Z
UID:10002062-1788160500-1788163200@www.winnetu.com
SUMMARY:Functional Strength with Alyssa
DESCRIPTION:A full-body strength class centered on fundamental movement patterns—hinge\, squat\, push\, pull\, improving control & stability. \nNo signup required. Mats Provided. For rain cancellation info\, please contact the Front Desk.
URL:https://www.winnetu.com/event/functional-strength-with-alyssa-2/2026-08-31/
CATEGORIES:Functional Strength
ATTACH;FMTTYPE=image/png:https://www.winnetu.com/wp-content/uploads/2026/03/Untitled-600-x-600-px-22.png
END:VEVENT
BEGIN:VEVENT
DTSTART;TZID=America/New_York:20260831T080000
DTEND;TZID=America/New_York:20260831T090000
DTSTAMP:20260423T132102
CREATED:20260324T211246Z
LAST-MODIFIED:20260326T142502Z
UID:10002095-1788163200-1788166800@www.winnetu.com
SUMMARY:Yoga with Emily
DESCRIPTION:At the Winnetu\, you can enjoy complimentary yoga classes on the Hotel’s Front Lawn. \nNo signup required. Mats Provided. For rain cancellation info\, please contact the Front Desk.
URL:https://www.winnetu.com/event/yoga-with-emily-2/2026-08-31/
CATEGORIES:Yoga
ATTACH;FMTTYPE=image/png:https://www.winnetu.com/wp-content/uploads/2026/03/Untitled-600-x-600-px-23.png
END:VEVENT
BEGIN:VEVENT
DTSTART;TZID=America/New_York:20260831T091500
DTEND;TZID=America/New_York:20260831T100000
DTSTAMP:20260423T132102
CREATED:20260324T210143Z
LAST-MODIFIED:20260325T191012Z
UID:10002028-1788167700-1788170400@www.winnetu.com
SUMMARY:Functional Strength with Alyssa
DESCRIPTION:A full-body strength class centered on fundamental movement patterns—hinge\, squat\, push\, pull\, improving control & stability. \nNo signup required. Mats Provided. For rain cancellation info\, please contact the Front Desk.
URL:https://www.winnetu.com/event/functional-strength-with-alyssa-3/2026-08-31/
ATTACH;FMTTYPE=image/png:https://www.winnetu.com/wp-content/uploads/2026/03/Untitled-600-x-600-px-22.png
END:VEVENT
BEGIN:VEVENT
DTSTART;TZID=America/New_York:20260901T080000
DTEND;TZID=America/New_York:20260901T090000
DTSTAMP:20260423T132102
CREATED:20260324T211600Z
LAST-MODIFIED:20260326T142424Z
UID:10002128-1788249600-1788253200@www.winnetu.com
SUMMARY:Functional Strength with Alyssa
DESCRIPTION:A full-body strength class centered on fundamental movement patterns—hinge\, squat\, push\, pull\, improving control & stability. \nNo signup required. Mats Provided. For rain cancellation info\, please contact the Front Desk.
URL:https://www.winnetu.com/event/functional-strength-with-alyssa-4/2026-09-01/
CATEGORIES:Functional Strength
ATTACH;FMTTYPE=image/png:https://www.winnetu.com/wp-content/uploads/2026/03/Untitled-600-x-600-px-22.png
END:VEVENT
BEGIN:VEVENT
DTSTART;TZID=America/New_York:20260901T090000
DTEND;TZID=America/New_York:20260901T100000
DTSTAMP:20260423T132102
CREATED:20260324T212214Z
LAST-MODIFIED:20260325T185756Z
UID:10002181-1788253200-1788256800@www.winnetu.com
SUMMARY:Yoga with Emily
DESCRIPTION:At the Winnetu\, you can enjoy complimentary yoga classes on the Hotel’s Front Lawn. \nNo signup required. Mats Provided. For rain cancellation info\, please contact the Front Desk.
URL:https://www.winnetu.com/event/yoga-with-emily-3/2026-09-01/
CATEGORIES:Yoga
ATTACH;FMTTYPE=image/png:https://www.winnetu.com/wp-content/uploads/2026/03/Untitled-600-x-600-px-23.png
END:VEVENT
BEGIN:VEVENT
DTSTART;TZID=America/New_York:20260902T071500
DTEND;TZID=America/New_York:20260902T080000
DTSTAMP:20260423T132102
CREATED:20260324T211001Z
LAST-MODIFIED:20260326T142547Z
UID:10002063-1788333300-1788336000@www.winnetu.com
SUMMARY:Functional Strength with Alyssa
DESCRIPTION:A full-body strength class centered on fundamental movement patterns—hinge\, squat\, push\, pull\, improving control & stability. \nNo signup required. Mats Provided. For rain cancellation info\, please contact the Front Desk.
URL:https://www.winnetu.com/event/functional-strength-with-alyssa-2/2026-09-02/
CATEGORIES:Functional Strength
ATTACH;FMTTYPE=image/png:https://www.winnetu.com/wp-content/uploads/2026/03/Untitled-600-x-600-px-22.png
END:VEVENT
BEGIN:VEVENT
DTSTART;TZID=America/New_York:20260902T080000
DTEND;TZID=America/New_York:20260902T090000
DTSTAMP:20260423T132102
CREATED:20260324T211246Z
LAST-MODIFIED:20260326T142502Z
UID:10002096-1788336000-1788339600@www.winnetu.com
SUMMARY:Yoga with Emily
DESCRIPTION:At the Winnetu\, you can enjoy complimentary yoga classes on the Hotel’s Front Lawn. \nNo signup required. Mats Provided. For rain cancellation info\, please contact the Front Desk.
URL:https://www.winnetu.com/event/yoga-with-emily-2/2026-09-02/
CATEGORIES:Yoga
ATTACH;FMTTYPE=image/png:https://www.winnetu.com/wp-content/uploads/2026/03/Untitled-600-x-600-px-23.png
END:VEVENT
BEGIN:VEVENT
DTSTART;TZID=America/New_York:20260902T091500
DTEND;TZID=America/New_York:20260902T100000
DTSTAMP:20260423T132102
CREATED:20260324T210143Z
LAST-MODIFIED:20260325T191012Z
UID:10002029-1788340500-1788343200@www.winnetu.com
SUMMARY:Functional Strength with Alyssa
DESCRIPTION:A full-body strength class centered on fundamental movement patterns—hinge\, squat\, push\, pull\, improving control & stability. \nNo signup required. Mats Provided. For rain cancellation info\, please contact the Front Desk.
URL:https://www.winnetu.com/event/functional-strength-with-alyssa-3/2026-09-02/
ATTACH;FMTTYPE=image/png:https://www.winnetu.com/wp-content/uploads/2026/03/Untitled-600-x-600-px-22.png
END:VEVENT
BEGIN:VEVENT
DTSTART;TZID=America/New_York:20260903T080000
DTEND;TZID=America/New_York:20260903T090000
DTSTAMP:20260423T132102
CREATED:20260324T211600Z
LAST-MODIFIED:20260326T142424Z
UID:10002129-1788422400-1788426000@www.winnetu.com
SUMMARY:Functional Strength with Alyssa
DESCRIPTION:A full-body strength class centered on fundamental movement patterns—hinge\, squat\, push\, pull\, improving control & stability. \nNo signup required. Mats Provided. For rain cancellation info\, please contact the Front Desk.
URL:https://www.winnetu.com/event/functional-strength-with-alyssa-4/2026-09-03/
CATEGORIES:Functional Strength
ATTACH;FMTTYPE=image/png:https://www.winnetu.com/wp-content/uploads/2026/03/Untitled-600-x-600-px-22.png
END:VEVENT
BEGIN:VEVENT
DTSTART;TZID=America/New_York:20260903T090000
DTEND;TZID=America/New_York:20260903T100000
DTSTAMP:20260423T132102
CREATED:20260324T212214Z
LAST-MODIFIED:20260325T185756Z
UID:10002182-1788426000-1788429600@www.winnetu.com
SUMMARY:Yoga with Emily
DESCRIPTION:At the Winnetu\, you can enjoy complimentary yoga classes on the Hotel’s Front Lawn. \nNo signup required. Mats Provided. For rain cancellation info\, please contact the Front Desk.
URL:https://www.winnetu.com/event/yoga-with-emily-3/2026-09-03/
CATEGORIES:Yoga
ATTACH;FMTTYPE=image/png:https://www.winnetu.com/wp-content/uploads/2026/03/Untitled-600-x-600-px-23.png
END:VEVENT
BEGIN:VEVENT
DTSTART;TZID=America/New_York:20260904T071500
DTEND;TZID=America/New_York:20260904T080000
DTSTAMP:20260423T132102
CREATED:20260324T211001Z
LAST-MODIFIED:20260326T142547Z
UID:10002064-1788506100-1788508800@www.winnetu.com
SUMMARY:Functional Strength with Alyssa
DESCRIPTION:A full-body strength class centered on fundamental movement patterns—hinge\, squat\, push\, pull\, improving control & stability. \nNo signup required. Mats Provided. For rain cancellation info\, please contact the Front Desk.
URL:https://www.winnetu.com/event/functional-strength-with-alyssa-2/2026-09-04/
CATEGORIES:Functional Strength
ATTACH;FMTTYPE=image/png:https://www.winnetu.com/wp-content/uploads/2026/03/Untitled-600-x-600-px-22.png
END:VEVENT
BEGIN:VEVENT
DTSTART;TZID=America/New_York:20260904T080000
DTEND;TZID=America/New_York:20260904T090000
DTSTAMP:20260423T132102
CREATED:20260324T211246Z
LAST-MODIFIED:20260326T142502Z
UID:10002097-1788508800-1788512400@www.winnetu.com
SUMMARY:Yoga with Emily
DESCRIPTION:At the Winnetu\, you can enjoy complimentary yoga classes on the Hotel’s Front Lawn. \nNo signup required. Mats Provided. For rain cancellation info\, please contact the Front Desk.
URL:https://www.winnetu.com/event/yoga-with-emily-2/2026-09-04/
CATEGORIES:Yoga
ATTACH;FMTTYPE=image/png:https://www.winnetu.com/wp-content/uploads/2026/03/Untitled-600-x-600-px-23.png
END:VEVENT
BEGIN:VEVENT
DTSTART;TZID=America/New_York:20260904T091500
DTEND;TZID=America/New_York:20260904T100000
DTSTAMP:20260423T132102
CREATED:20260324T210143Z
LAST-MODIFIED:20260325T191012Z
UID:10002030-1788513300-1788516000@www.winnetu.com
SUMMARY:Functional Strength with Alyssa
DESCRIPTION:A full-body strength class centered on fundamental movement patterns—hinge\, squat\, push\, pull\, improving control & stability. \nNo signup required. Mats Provided. For rain cancellation info\, please contact the Front Desk.
URL:https://www.winnetu.com/event/functional-strength-with-alyssa-3/2026-09-04/
ATTACH;FMTTYPE=image/png:https://www.winnetu.com/wp-content/uploads/2026/03/Untitled-600-x-600-px-22.png
END:VEVENT
BEGIN:VEVENT
DTSTART;TZID=America/New_York:20260905T080000
DTEND;TZID=America/New_York:20260905T090000
DTSTAMP:20260423T132102
CREATED:20260324T211600Z
LAST-MODIFIED:20260326T142424Z
UID:10002130-1788595200-1788598800@www.winnetu.com
SUMMARY:Functional Strength with Alyssa
DESCRIPTION:A full-body strength class centered on fundamental movement patterns—hinge\, squat\, push\, pull\, improving control & stability. \nNo signup required. Mats Provided. For rain cancellation info\, please contact the Front Desk.
URL:https://www.winnetu.com/event/functional-strength-with-alyssa-4/2026-09-05/
CATEGORIES:Functional Strength
ATTACH;FMTTYPE=image/png:https://www.winnetu.com/wp-content/uploads/2026/03/Untitled-600-x-600-px-22.png
END:VEVENT
BEGIN:VEVENT
DTSTART;TZID=America/New_York:20260905T090000
DTEND;TZID=America/New_York:20260905T100000
DTSTAMP:20260423T132102
CREATED:20260324T212214Z
LAST-MODIFIED:20260325T185756Z
UID:10002183-1788598800-1788602400@www.winnetu.com
SUMMARY:Yoga with Emily
DESCRIPTION:At the Winnetu\, you can enjoy complimentary yoga classes on the Hotel’s Front Lawn. \nNo signup required. Mats Provided. For rain cancellation info\, please contact the Front Desk.
URL:https://www.winnetu.com/event/yoga-with-emily-3/2026-09-05/
CATEGORIES:Yoga
ATTACH;FMTTYPE=image/png:https://www.winnetu.com/wp-content/uploads/2026/03/Untitled-600-x-600-px-23.png
END:VEVENT
END:VCALENDAR