BEGIN:VCALENDAR
VERSION:2.0
PRODID:-//Winnetu Oceanside Resort - ECPv6.15.20//NONSGML v1.0//EN
CALSCALE:GREGORIAN
METHOD:PUBLISH
X-WR-CALNAME:Winnetu Oceanside Resort
X-ORIGINAL-URL:https://www.winnetu.com
X-WR-CALDESC:Events for Winnetu Oceanside Resort
REFRESH-INTERVAL;VALUE=DURATION:PT1H
X-Robots-Tag:noindex
X-PUBLISHED-TTL:PT1H
BEGIN:VTIMEZONE
TZID:America/New_York
BEGIN:DAYLIGHT
TZOFFSETFROM:-0500
TZOFFSETTO:-0400
TZNAME:EDT
DTSTART:20250309T070000
END:DAYLIGHT
BEGIN:STANDARD
TZOFFSETFROM:-0400
TZOFFSETTO:-0500
TZNAME:EST
DTSTART:20251102T060000
END:STANDARD
BEGIN:DAYLIGHT
TZOFFSETFROM:-0500
TZOFFSETTO:-0400
TZNAME:EDT
DTSTART:20260308T070000
END:DAYLIGHT
BEGIN:STANDARD
TZOFFSETFROM:-0400
TZOFFSETTO:-0500
TZNAME:EST
DTSTART:20261101T060000
END:STANDARD
BEGIN:DAYLIGHT
TZOFFSETFROM:-0500
TZOFFSETTO:-0400
TZNAME:EDT
DTSTART:20270314T070000
END:DAYLIGHT
BEGIN:STANDARD
TZOFFSETFROM:-0400
TZOFFSETTO:-0500
TZNAME:EST
DTSTART:20271107T060000
END:STANDARD
END:VTIMEZONE
BEGIN:VEVENT
DTSTART;TZID=America/New_York:20260824T071500
DTEND;TZID=America/New_York:20260824T080000
DTSTAMP:20260423T115238
CREATED:20260324T211001Z
LAST-MODIFIED:20260326T142547Z
UID:10002059-1787555700-1787558400@www.winnetu.com
SUMMARY:Functional Strength with Alyssa
DESCRIPTION:A full-body strength class centered on fundamental movement patterns—hinge\, squat\, push\, pull\, improving control & stability. \nNo signup required. Mats Provided. For rain cancellation info\, please contact the Front Desk.
URL:https://www.winnetu.com/event/functional-strength-with-alyssa-2/2026-08-24/
CATEGORIES:Functional Strength
ATTACH;FMTTYPE=image/png:https://www.winnetu.com/wp-content/uploads/2026/03/Untitled-600-x-600-px-22.png
END:VEVENT
BEGIN:VEVENT
DTSTART;TZID=America/New_York:20260824T080000
DTEND;TZID=America/New_York:20260824T090000
DTSTAMP:20260423T115238
CREATED:20260324T211246Z
LAST-MODIFIED:20260326T142502Z
UID:10002092-1787558400-1787562000@www.winnetu.com
SUMMARY:Yoga with Emily
DESCRIPTION:At the Winnetu\, you can enjoy complimentary yoga classes on the Hotel’s Front Lawn. \nNo signup required. Mats Provided. For rain cancellation info\, please contact the Front Desk.
URL:https://www.winnetu.com/event/yoga-with-emily-2/2026-08-24/
CATEGORIES:Yoga
ATTACH;FMTTYPE=image/png:https://www.winnetu.com/wp-content/uploads/2026/03/Untitled-600-x-600-px-23.png
END:VEVENT
BEGIN:VEVENT
DTSTART;TZID=America/New_York:20260824T091500
DTEND;TZID=America/New_York:20260824T100000
DTSTAMP:20260423T115238
CREATED:20260324T210143Z
LAST-MODIFIED:20260325T191012Z
UID:10002025-1787562900-1787565600@www.winnetu.com
SUMMARY:Functional Strength with Alyssa
DESCRIPTION:A full-body strength class centered on fundamental movement patterns—hinge\, squat\, push\, pull\, improving control & stability. \nNo signup required. Mats Provided. For rain cancellation info\, please contact the Front Desk.
URL:https://www.winnetu.com/event/functional-strength-with-alyssa-3/2026-08-24/
ATTACH;FMTTYPE=image/png:https://www.winnetu.com/wp-content/uploads/2026/03/Untitled-600-x-600-px-22.png
END:VEVENT
BEGIN:VEVENT
DTSTART;TZID=America/New_York:20260825T080000
DTEND;TZID=America/New_York:20260825T090000
DTSTAMP:20260423T115238
CREATED:20260324T211600Z
LAST-MODIFIED:20260326T142424Z
UID:10002125-1787644800-1787648400@www.winnetu.com
SUMMARY:Functional Strength with Alyssa
DESCRIPTION:A full-body strength class centered on fundamental movement patterns—hinge\, squat\, push\, pull\, improving control & stability. \nNo signup required. Mats Provided. For rain cancellation info\, please contact the Front Desk.
URL:https://www.winnetu.com/event/functional-strength-with-alyssa-4/2026-08-25/
CATEGORIES:Functional Strength
ATTACH;FMTTYPE=image/png:https://www.winnetu.com/wp-content/uploads/2026/03/Untitled-600-x-600-px-22.png
END:VEVENT
BEGIN:VEVENT
DTSTART;TZID=America/New_York:20260825T090000
DTEND;TZID=America/New_York:20260825T100000
DTSTAMP:20260423T115238
CREATED:20260324T212214Z
LAST-MODIFIED:20260325T185756Z
UID:10002178-1787648400-1787652000@www.winnetu.com
SUMMARY:Yoga with Emily
DESCRIPTION:At the Winnetu\, you can enjoy complimentary yoga classes on the Hotel’s Front Lawn. \nNo signup required. Mats Provided. For rain cancellation info\, please contact the Front Desk.
URL:https://www.winnetu.com/event/yoga-with-emily-3/2026-08-25/
CATEGORIES:Yoga
ATTACH;FMTTYPE=image/png:https://www.winnetu.com/wp-content/uploads/2026/03/Untitled-600-x-600-px-23.png
END:VEVENT
BEGIN:VEVENT
DTSTART;TZID=America/New_York:20260825T101500
DTEND;TZID=America/New_York:20260825T110000
DTSTAMP:20260423T115238
CREATED:20260325T152818Z
LAST-MODIFIED:20260325T185624Z
UID:10002211-1787652900-1787655600@www.winnetu.com
SUMMARY:Functional Strength with Alyssa
DESCRIPTION:A full-body strength class centered on fundamental movement patterns—hinge\, squat\, push\, pull\, improving control & stability. \nNo signup required. Mats Provided. For rain cancellation info\, please contact the Front Desk.
URL:https://www.winnetu.com/event/functional-strength/2026-08-25/
CATEGORIES:Functional Strength
ATTACH;FMTTYPE=image/png:https://www.winnetu.com/wp-content/uploads/2026/03/Untitled-600-x-600-px-22.png
END:VEVENT
BEGIN:VEVENT
DTSTART;TZID=America/New_York:20260826T071500
DTEND;TZID=America/New_York:20260826T080000
DTSTAMP:20260423T115238
CREATED:20260324T211001Z
LAST-MODIFIED:20260326T142547Z
UID:10002060-1787728500-1787731200@www.winnetu.com
SUMMARY:Functional Strength with Alyssa
DESCRIPTION:A full-body strength class centered on fundamental movement patterns—hinge\, squat\, push\, pull\, improving control & stability. \nNo signup required. Mats Provided. For rain cancellation info\, please contact the Front Desk.
URL:https://www.winnetu.com/event/functional-strength-with-alyssa-2/2026-08-26/
CATEGORIES:Functional Strength
ATTACH;FMTTYPE=image/png:https://www.winnetu.com/wp-content/uploads/2026/03/Untitled-600-x-600-px-22.png
END:VEVENT
BEGIN:VEVENT
DTSTART;TZID=America/New_York:20260826T080000
DTEND;TZID=America/New_York:20260826T090000
DTSTAMP:20260423T115238
CREATED:20260324T211246Z
LAST-MODIFIED:20260326T142502Z
UID:10002093-1787731200-1787734800@www.winnetu.com
SUMMARY:Yoga with Emily
DESCRIPTION:At the Winnetu\, you can enjoy complimentary yoga classes on the Hotel’s Front Lawn. \nNo signup required. Mats Provided. For rain cancellation info\, please contact the Front Desk.
URL:https://www.winnetu.com/event/yoga-with-emily-2/2026-08-26/
CATEGORIES:Yoga
ATTACH;FMTTYPE=image/png:https://www.winnetu.com/wp-content/uploads/2026/03/Untitled-600-x-600-px-23.png
END:VEVENT
BEGIN:VEVENT
DTSTART;TZID=America/New_York:20260826T091500
DTEND;TZID=America/New_York:20260826T100000
DTSTAMP:20260423T115238
CREATED:20260324T210143Z
LAST-MODIFIED:20260325T191012Z
UID:10002026-1787735700-1787738400@www.winnetu.com
SUMMARY:Functional Strength with Alyssa
DESCRIPTION:A full-body strength class centered on fundamental movement patterns—hinge\, squat\, push\, pull\, improving control & stability. \nNo signup required. Mats Provided. For rain cancellation info\, please contact the Front Desk.
URL:https://www.winnetu.com/event/functional-strength-with-alyssa-3/2026-08-26/
ATTACH;FMTTYPE=image/png:https://www.winnetu.com/wp-content/uploads/2026/03/Untitled-600-x-600-px-22.png
END:VEVENT
BEGIN:VEVENT
DTSTART;TZID=America/New_York:20260827T080000
DTEND;TZID=America/New_York:20260827T090000
DTSTAMP:20260423T115238
CREATED:20260324T211600Z
LAST-MODIFIED:20260326T142424Z
UID:10002126-1787817600-1787821200@www.winnetu.com
SUMMARY:Functional Strength with Alyssa
DESCRIPTION:A full-body strength class centered on fundamental movement patterns—hinge\, squat\, push\, pull\, improving control & stability. \nNo signup required. Mats Provided. For rain cancellation info\, please contact the Front Desk.
URL:https://www.winnetu.com/event/functional-strength-with-alyssa-4/2026-08-27/
CATEGORIES:Functional Strength
ATTACH;FMTTYPE=image/png:https://www.winnetu.com/wp-content/uploads/2026/03/Untitled-600-x-600-px-22.png
END:VEVENT
BEGIN:VEVENT
DTSTART;TZID=America/New_York:20260827T090000
DTEND;TZID=America/New_York:20260827T100000
DTSTAMP:20260423T115238
CREATED:20260324T212214Z
LAST-MODIFIED:20260325T185756Z
UID:10002179-1787821200-1787824800@www.winnetu.com
SUMMARY:Yoga with Emily
DESCRIPTION:At the Winnetu\, you can enjoy complimentary yoga classes on the Hotel’s Front Lawn. \nNo signup required. Mats Provided. For rain cancellation info\, please contact the Front Desk.
URL:https://www.winnetu.com/event/yoga-with-emily-3/2026-08-27/
CATEGORIES:Yoga
ATTACH;FMTTYPE=image/png:https://www.winnetu.com/wp-content/uploads/2026/03/Untitled-600-x-600-px-23.png
END:VEVENT
BEGIN:VEVENT
DTSTART;TZID=America/New_York:20260827T101500
DTEND;TZID=America/New_York:20260827T110000
DTSTAMP:20260423T115238
CREATED:20260325T152818Z
LAST-MODIFIED:20260325T185624Z
UID:10002212-1787825700-1787828400@www.winnetu.com
SUMMARY:Functional Strength with Alyssa
DESCRIPTION:A full-body strength class centered on fundamental movement patterns—hinge\, squat\, push\, pull\, improving control & stability. \nNo signup required. Mats Provided. For rain cancellation info\, please contact the Front Desk.
URL:https://www.winnetu.com/event/functional-strength/2026-08-27/
CATEGORIES:Functional Strength
ATTACH;FMTTYPE=image/png:https://www.winnetu.com/wp-content/uploads/2026/03/Untitled-600-x-600-px-22.png
END:VEVENT
BEGIN:VEVENT
DTSTART;TZID=America/New_York:20260828T071500
DTEND;TZID=America/New_York:20260828T080000
DTSTAMP:20260423T115238
CREATED:20260324T211001Z
LAST-MODIFIED:20260326T142547Z
UID:10002061-1787901300-1787904000@www.winnetu.com
SUMMARY:Functional Strength with Alyssa
DESCRIPTION:A full-body strength class centered on fundamental movement patterns—hinge\, squat\, push\, pull\, improving control & stability. \nNo signup required. Mats Provided. For rain cancellation info\, please contact the Front Desk.
URL:https://www.winnetu.com/event/functional-strength-with-alyssa-2/2026-08-28/
CATEGORIES:Functional Strength
ATTACH;FMTTYPE=image/png:https://www.winnetu.com/wp-content/uploads/2026/03/Untitled-600-x-600-px-22.png
END:VEVENT
BEGIN:VEVENT
DTSTART;TZID=America/New_York:20260828T080000
DTEND;TZID=America/New_York:20260828T090000
DTSTAMP:20260423T115238
CREATED:20260324T211246Z
LAST-MODIFIED:20260326T142502Z
UID:10002094-1787904000-1787907600@www.winnetu.com
SUMMARY:Yoga with Emily
DESCRIPTION:At the Winnetu\, you can enjoy complimentary yoga classes on the Hotel’s Front Lawn. \nNo signup required. Mats Provided. For rain cancellation info\, please contact the Front Desk.
URL:https://www.winnetu.com/event/yoga-with-emily-2/2026-08-28/
CATEGORIES:Yoga
ATTACH;FMTTYPE=image/png:https://www.winnetu.com/wp-content/uploads/2026/03/Untitled-600-x-600-px-23.png
END:VEVENT
BEGIN:VEVENT
DTSTART;TZID=America/New_York:20260828T091500
DTEND;TZID=America/New_York:20260828T100000
DTSTAMP:20260423T115238
CREATED:20260324T210143Z
LAST-MODIFIED:20260325T191012Z
UID:10002027-1787908500-1787911200@www.winnetu.com
SUMMARY:Functional Strength with Alyssa
DESCRIPTION:A full-body strength class centered on fundamental movement patterns—hinge\, squat\, push\, pull\, improving control & stability. \nNo signup required. Mats Provided. For rain cancellation info\, please contact the Front Desk.
URL:https://www.winnetu.com/event/functional-strength-with-alyssa-3/2026-08-28/
ATTACH;FMTTYPE=image/png:https://www.winnetu.com/wp-content/uploads/2026/03/Untitled-600-x-600-px-22.png
END:VEVENT
BEGIN:VEVENT
DTSTART;TZID=America/New_York:20260829T080000
DTEND;TZID=America/New_York:20260829T090000
DTSTAMP:20260423T115238
CREATED:20260324T211600Z
LAST-MODIFIED:20260326T142424Z
UID:10002127-1787990400-1787994000@www.winnetu.com
SUMMARY:Functional Strength with Alyssa
DESCRIPTION:A full-body strength class centered on fundamental movement patterns—hinge\, squat\, push\, pull\, improving control & stability. \nNo signup required. Mats Provided. For rain cancellation info\, please contact the Front Desk.
URL:https://www.winnetu.com/event/functional-strength-with-alyssa-4/2026-08-29/
CATEGORIES:Functional Strength
ATTACH;FMTTYPE=image/png:https://www.winnetu.com/wp-content/uploads/2026/03/Untitled-600-x-600-px-22.png
END:VEVENT
BEGIN:VEVENT
DTSTART;TZID=America/New_York:20260829T090000
DTEND;TZID=America/New_York:20260829T100000
DTSTAMP:20260423T115238
CREATED:20260324T212214Z
LAST-MODIFIED:20260325T185756Z
UID:10002180-1787994000-1787997600@www.winnetu.com
SUMMARY:Yoga with Emily
DESCRIPTION:At the Winnetu\, you can enjoy complimentary yoga classes on the Hotel’s Front Lawn. \nNo signup required. Mats Provided. For rain cancellation info\, please contact the Front Desk.
URL:https://www.winnetu.com/event/yoga-with-emily-3/2026-08-29/
CATEGORIES:Yoga
ATTACH;FMTTYPE=image/png:https://www.winnetu.com/wp-content/uploads/2026/03/Untitled-600-x-600-px-23.png
END:VEVENT
BEGIN:VEVENT
DTSTART;TZID=America/New_York:20260829T101500
DTEND;TZID=America/New_York:20260829T110000
DTSTAMP:20260423T115238
CREATED:20260325T152818Z
LAST-MODIFIED:20260325T185624Z
UID:10002213-1787998500-1788001200@www.winnetu.com
SUMMARY:Functional Strength with Alyssa
DESCRIPTION:A full-body strength class centered on fundamental movement patterns—hinge\, squat\, push\, pull\, improving control & stability. \nNo signup required. Mats Provided. For rain cancellation info\, please contact the Front Desk.
URL:https://www.winnetu.com/event/functional-strength/2026-08-29/
CATEGORIES:Functional Strength
ATTACH;FMTTYPE=image/png:https://www.winnetu.com/wp-content/uploads/2026/03/Untitled-600-x-600-px-22.png
END:VEVENT
END:VCALENDAR