BEGIN:VCALENDAR
VERSION:2.0
PRODID:-//Winnetu Oceanside Resort - ECPv6.15.20//NONSGML v1.0//EN
CALSCALE:GREGORIAN
METHOD:PUBLISH
X-ORIGINAL-URL:https://www.winnetu.com
X-WR-CALDESC:Events for Winnetu Oceanside Resort
REFRESH-INTERVAL;VALUE=DURATION:PT1H
X-Robots-Tag:noindex
X-PUBLISHED-TTL:PT1H
BEGIN:VTIMEZONE
TZID:America/New_York
BEGIN:DAYLIGHT
TZOFFSETFROM:-0500
TZOFFSETTO:-0400
TZNAME:EDT
DTSTART:20250309T070000
END:DAYLIGHT
BEGIN:STANDARD
TZOFFSETFROM:-0400
TZOFFSETTO:-0500
TZNAME:EST
DTSTART:20251102T060000
END:STANDARD
BEGIN:DAYLIGHT
TZOFFSETFROM:-0500
TZOFFSETTO:-0400
TZNAME:EDT
DTSTART:20260308T070000
END:DAYLIGHT
BEGIN:STANDARD
TZOFFSETFROM:-0400
TZOFFSETTO:-0500
TZNAME:EST
DTSTART:20261101T060000
END:STANDARD
BEGIN:DAYLIGHT
TZOFFSETFROM:-0500
TZOFFSETTO:-0400
TZNAME:EDT
DTSTART:20270314T070000
END:DAYLIGHT
BEGIN:STANDARD
TZOFFSETFROM:-0400
TZOFFSETTO:-0500
TZNAME:EST
DTSTART:20271107T060000
END:STANDARD
END:VTIMEZONE
BEGIN:VEVENT
DTSTART;TZID=America/New_York:20260814T071500
DTEND;TZID=America/New_York:20260814T080000
DTSTAMP:20260423T164057
CREATED:20260324T211001Z
LAST-MODIFIED:20260326T142547Z
UID:10002055-1786691700-1786694400@www.winnetu.com
SUMMARY:Functional Strength with Alyssa
DESCRIPTION:A full-body strength class centered on fundamental movement patterns—hinge\, squat\, push\, pull\, improving control & stability. \nNo signup required. Mats Provided. For rain cancellation info\, please contact the Front Desk.
URL:https://www.winnetu.com/event/functional-strength-with-alyssa-2/2026-08-14/
CATEGORIES:Functional Strength
ATTACH;FMTTYPE=image/png:https://www.winnetu.com/wp-content/uploads/2026/03/Untitled-600-x-600-px-22.png
END:VEVENT
BEGIN:VEVENT
DTSTART;TZID=America/New_York:20260814T080000
DTEND;TZID=America/New_York:20260814T090000
DTSTAMP:20260423T164057
CREATED:20260324T211246Z
LAST-MODIFIED:20260326T142502Z
UID:10002088-1786694400-1786698000@www.winnetu.com
SUMMARY:Yoga with Emily
DESCRIPTION:At the Winnetu\, you can enjoy complimentary yoga classes on the Hotel’s Front Lawn. \nNo signup required. Mats Provided. For rain cancellation info\, please contact the Front Desk.
URL:https://www.winnetu.com/event/yoga-with-emily-2/2026-08-14/
CATEGORIES:Yoga
ATTACH;FMTTYPE=image/png:https://www.winnetu.com/wp-content/uploads/2026/03/Untitled-600-x-600-px-23.png
END:VEVENT
BEGIN:VEVENT
DTSTART;TZID=America/New_York:20260814T091500
DTEND;TZID=America/New_York:20260814T100000
DTSTAMP:20260423T164057
CREATED:20260324T210143Z
LAST-MODIFIED:20260325T191012Z
UID:10002021-1786698900-1786701600@www.winnetu.com
SUMMARY:Functional Strength with Alyssa
DESCRIPTION:A full-body strength class centered on fundamental movement patterns—hinge\, squat\, push\, pull\, improving control & stability. \nNo signup required. Mats Provided. For rain cancellation info\, please contact the Front Desk.
URL:https://www.winnetu.com/event/functional-strength-with-alyssa-3/2026-08-14/
ATTACH;FMTTYPE=image/png:https://www.winnetu.com/wp-content/uploads/2026/03/Untitled-600-x-600-px-22.png
END:VEVENT
BEGIN:VEVENT
DTSTART;TZID=America/New_York:20260815T080000
DTEND;TZID=America/New_York:20260815T090000
DTSTAMP:20260423T164057
CREATED:20260324T211600Z
LAST-MODIFIED:20260326T142424Z
UID:10002121-1786780800-1786784400@www.winnetu.com
SUMMARY:Functional Strength with Alyssa
DESCRIPTION:A full-body strength class centered on fundamental movement patterns—hinge\, squat\, push\, pull\, improving control & stability. \nNo signup required. Mats Provided. For rain cancellation info\, please contact the Front Desk.
URL:https://www.winnetu.com/event/functional-strength-with-alyssa-4/2026-08-15/
CATEGORIES:Functional Strength
ATTACH;FMTTYPE=image/png:https://www.winnetu.com/wp-content/uploads/2026/03/Untitled-600-x-600-px-22.png
END:VEVENT
BEGIN:VEVENT
DTSTART;TZID=America/New_York:20260815T090000
DTEND;TZID=America/New_York:20260815T100000
DTSTAMP:20260423T164057
CREATED:20260324T212214Z
LAST-MODIFIED:20260325T185756Z
UID:10002174-1786784400-1786788000@www.winnetu.com
SUMMARY:Yoga with Emily
DESCRIPTION:At the Winnetu\, you can enjoy complimentary yoga classes on the Hotel’s Front Lawn. \nNo signup required. Mats Provided. For rain cancellation info\, please contact the Front Desk.
URL:https://www.winnetu.com/event/yoga-with-emily-3/2026-08-15/
CATEGORIES:Yoga
ATTACH;FMTTYPE=image/png:https://www.winnetu.com/wp-content/uploads/2026/03/Untitled-600-x-600-px-23.png
END:VEVENT
BEGIN:VEVENT
DTSTART;TZID=America/New_York:20260815T101500
DTEND;TZID=America/New_York:20260815T110000
DTSTAMP:20260423T164057
CREATED:20260325T152818Z
LAST-MODIFIED:20260325T185624Z
UID:10002207-1786788900-1786791600@www.winnetu.com
SUMMARY:Functional Strength with Alyssa
DESCRIPTION:A full-body strength class centered on fundamental movement patterns—hinge\, squat\, push\, pull\, improving control & stability. \nNo signup required. Mats Provided. For rain cancellation info\, please contact the Front Desk.
URL:https://www.winnetu.com/event/functional-strength/2026-08-15/
CATEGORIES:Functional Strength
ATTACH;FMTTYPE=image/png:https://www.winnetu.com/wp-content/uploads/2026/03/Untitled-600-x-600-px-22.png
END:VEVENT
BEGIN:VEVENT
DTSTART;TZID=America/New_York:20260817T071500
DTEND;TZID=America/New_York:20260817T080000
DTSTAMP:20260423T164057
CREATED:20260324T211001Z
LAST-MODIFIED:20260326T142547Z
UID:10002056-1786950900-1786953600@www.winnetu.com
SUMMARY:Functional Strength with Alyssa
DESCRIPTION:A full-body strength class centered on fundamental movement patterns—hinge\, squat\, push\, pull\, improving control & stability. \nNo signup required. Mats Provided. For rain cancellation info\, please contact the Front Desk.
URL:https://www.winnetu.com/event/functional-strength-with-alyssa-2/2026-08-17/
CATEGORIES:Functional Strength
ATTACH;FMTTYPE=image/png:https://www.winnetu.com/wp-content/uploads/2026/03/Untitled-600-x-600-px-22.png
END:VEVENT
BEGIN:VEVENT
DTSTART;TZID=America/New_York:20260817T080000
DTEND;TZID=America/New_York:20260817T090000
DTSTAMP:20260423T164057
CREATED:20260324T211246Z
LAST-MODIFIED:20260326T142502Z
UID:10002089-1786953600-1786957200@www.winnetu.com
SUMMARY:Yoga with Emily
DESCRIPTION:At the Winnetu\, you can enjoy complimentary yoga classes on the Hotel’s Front Lawn. \nNo signup required. Mats Provided. For rain cancellation info\, please contact the Front Desk.
URL:https://www.winnetu.com/event/yoga-with-emily-2/2026-08-17/
CATEGORIES:Yoga
ATTACH;FMTTYPE=image/png:https://www.winnetu.com/wp-content/uploads/2026/03/Untitled-600-x-600-px-23.png
END:VEVENT
BEGIN:VEVENT
DTSTART;TZID=America/New_York:20260817T091500
DTEND;TZID=America/New_York:20260817T100000
DTSTAMP:20260423T164057
CREATED:20260324T210143Z
LAST-MODIFIED:20260325T191012Z
UID:10002022-1786958100-1786960800@www.winnetu.com
SUMMARY:Functional Strength with Alyssa
DESCRIPTION:A full-body strength class centered on fundamental movement patterns—hinge\, squat\, push\, pull\, improving control & stability. \nNo signup required. Mats Provided. For rain cancellation info\, please contact the Front Desk.
URL:https://www.winnetu.com/event/functional-strength-with-alyssa-3/2026-08-17/
ATTACH;FMTTYPE=image/png:https://www.winnetu.com/wp-content/uploads/2026/03/Untitled-600-x-600-px-22.png
END:VEVENT
BEGIN:VEVENT
DTSTART;TZID=America/New_York:20260818T080000
DTEND;TZID=America/New_York:20260818T090000
DTSTAMP:20260423T164057
CREATED:20260324T211600Z
LAST-MODIFIED:20260326T142424Z
UID:10002122-1787040000-1787043600@www.winnetu.com
SUMMARY:Functional Strength with Alyssa
DESCRIPTION:A full-body strength class centered on fundamental movement patterns—hinge\, squat\, push\, pull\, improving control & stability. \nNo signup required. Mats Provided. For rain cancellation info\, please contact the Front Desk.
URL:https://www.winnetu.com/event/functional-strength-with-alyssa-4/2026-08-18/
CATEGORIES:Functional Strength
ATTACH;FMTTYPE=image/png:https://www.winnetu.com/wp-content/uploads/2026/03/Untitled-600-x-600-px-22.png
END:VEVENT
BEGIN:VEVENT
DTSTART;TZID=America/New_York:20260818T090000
DTEND;TZID=America/New_York:20260818T100000
DTSTAMP:20260423T164057
CREATED:20260324T212214Z
LAST-MODIFIED:20260325T185756Z
UID:10002175-1787043600-1787047200@www.winnetu.com
SUMMARY:Yoga with Emily
DESCRIPTION:At the Winnetu\, you can enjoy complimentary yoga classes on the Hotel’s Front Lawn. \nNo signup required. Mats Provided. For rain cancellation info\, please contact the Front Desk.
URL:https://www.winnetu.com/event/yoga-with-emily-3/2026-08-18/
CATEGORIES:Yoga
ATTACH;FMTTYPE=image/png:https://www.winnetu.com/wp-content/uploads/2026/03/Untitled-600-x-600-px-23.png
END:VEVENT
BEGIN:VEVENT
DTSTART;TZID=America/New_York:20260818T101500
DTEND;TZID=America/New_York:20260818T110000
DTSTAMP:20260423T164057
CREATED:20260325T152818Z
LAST-MODIFIED:20260325T185624Z
UID:10002208-1787048100-1787050800@www.winnetu.com
SUMMARY:Functional Strength with Alyssa
DESCRIPTION:A full-body strength class centered on fundamental movement patterns—hinge\, squat\, push\, pull\, improving control & stability. \nNo signup required. Mats Provided. For rain cancellation info\, please contact the Front Desk.
URL:https://www.winnetu.com/event/functional-strength/2026-08-18/
CATEGORIES:Functional Strength
ATTACH;FMTTYPE=image/png:https://www.winnetu.com/wp-content/uploads/2026/03/Untitled-600-x-600-px-22.png
END:VEVENT
BEGIN:VEVENT
DTSTART;TZID=America/New_York:20260819T071500
DTEND;TZID=America/New_York:20260819T080000
DTSTAMP:20260423T164057
CREATED:20260324T211001Z
LAST-MODIFIED:20260326T142547Z
UID:10002057-1787123700-1787126400@www.winnetu.com
SUMMARY:Functional Strength with Alyssa
DESCRIPTION:A full-body strength class centered on fundamental movement patterns—hinge\, squat\, push\, pull\, improving control & stability. \nNo signup required. Mats Provided. For rain cancellation info\, please contact the Front Desk.
URL:https://www.winnetu.com/event/functional-strength-with-alyssa-2/2026-08-19/
CATEGORIES:Functional Strength
ATTACH;FMTTYPE=image/png:https://www.winnetu.com/wp-content/uploads/2026/03/Untitled-600-x-600-px-22.png
END:VEVENT
BEGIN:VEVENT
DTSTART;TZID=America/New_York:20260819T080000
DTEND;TZID=America/New_York:20260819T090000
DTSTAMP:20260423T164057
CREATED:20260324T211246Z
LAST-MODIFIED:20260326T142502Z
UID:10002090-1787126400-1787130000@www.winnetu.com
SUMMARY:Yoga with Emily
DESCRIPTION:At the Winnetu\, you can enjoy complimentary yoga classes on the Hotel’s Front Lawn. \nNo signup required. Mats Provided. For rain cancellation info\, please contact the Front Desk.
URL:https://www.winnetu.com/event/yoga-with-emily-2/2026-08-19/
CATEGORIES:Yoga
ATTACH;FMTTYPE=image/png:https://www.winnetu.com/wp-content/uploads/2026/03/Untitled-600-x-600-px-23.png
END:VEVENT
BEGIN:VEVENT
DTSTART;TZID=America/New_York:20260819T091500
DTEND;TZID=America/New_York:20260819T100000
DTSTAMP:20260423T164057
CREATED:20260324T210143Z
LAST-MODIFIED:20260325T191012Z
UID:10002023-1787130900-1787133600@www.winnetu.com
SUMMARY:Functional Strength with Alyssa
DESCRIPTION:A full-body strength class centered on fundamental movement patterns—hinge\, squat\, push\, pull\, improving control & stability. \nNo signup required. Mats Provided. For rain cancellation info\, please contact the Front Desk.
URL:https://www.winnetu.com/event/functional-strength-with-alyssa-3/2026-08-19/
ATTACH;FMTTYPE=image/png:https://www.winnetu.com/wp-content/uploads/2026/03/Untitled-600-x-600-px-22.png
END:VEVENT
BEGIN:VEVENT
DTSTART;TZID=America/New_York:20260820T080000
DTEND;TZID=America/New_York:20260820T090000
DTSTAMP:20260423T164057
CREATED:20260324T211600Z
LAST-MODIFIED:20260326T142424Z
UID:10002123-1787212800-1787216400@www.winnetu.com
SUMMARY:Functional Strength with Alyssa
DESCRIPTION:A full-body strength class centered on fundamental movement patterns—hinge\, squat\, push\, pull\, improving control & stability. \nNo signup required. Mats Provided. For rain cancellation info\, please contact the Front Desk.
URL:https://www.winnetu.com/event/functional-strength-with-alyssa-4/2026-08-20/
CATEGORIES:Functional Strength
ATTACH;FMTTYPE=image/png:https://www.winnetu.com/wp-content/uploads/2026/03/Untitled-600-x-600-px-22.png
END:VEVENT
BEGIN:VEVENT
DTSTART;TZID=America/New_York:20260820T090000
DTEND;TZID=America/New_York:20260820T100000
DTSTAMP:20260423T164057
CREATED:20260324T212214Z
LAST-MODIFIED:20260325T185756Z
UID:10002176-1787216400-1787220000@www.winnetu.com
SUMMARY:Yoga with Emily
DESCRIPTION:At the Winnetu\, you can enjoy complimentary yoga classes on the Hotel’s Front Lawn. \nNo signup required. Mats Provided. For rain cancellation info\, please contact the Front Desk.
URL:https://www.winnetu.com/event/yoga-with-emily-3/2026-08-20/
CATEGORIES:Yoga
ATTACH;FMTTYPE=image/png:https://www.winnetu.com/wp-content/uploads/2026/03/Untitled-600-x-600-px-23.png
END:VEVENT
BEGIN:VEVENT
DTSTART;TZID=America/New_York:20260820T101500
DTEND;TZID=America/New_York:20260820T110000
DTSTAMP:20260423T164057
CREATED:20260325T152818Z
LAST-MODIFIED:20260325T185624Z
UID:10002209-1787220900-1787223600@www.winnetu.com
SUMMARY:Functional Strength with Alyssa
DESCRIPTION:A full-body strength class centered on fundamental movement patterns—hinge\, squat\, push\, pull\, improving control & stability. \nNo signup required. Mats Provided. For rain cancellation info\, please contact the Front Desk.
URL:https://www.winnetu.com/event/functional-strength/2026-08-20/
CATEGORIES:Functional Strength
ATTACH;FMTTYPE=image/png:https://www.winnetu.com/wp-content/uploads/2026/03/Untitled-600-x-600-px-22.png
END:VEVENT
BEGIN:VEVENT
DTSTART;TZID=America/New_York:20260821T071500
DTEND;TZID=America/New_York:20260821T080000
DTSTAMP:20260423T164057
CREATED:20260324T211001Z
LAST-MODIFIED:20260326T142547Z
UID:10002058-1787296500-1787299200@www.winnetu.com
SUMMARY:Functional Strength with Alyssa
DESCRIPTION:A full-body strength class centered on fundamental movement patterns—hinge\, squat\, push\, pull\, improving control & stability. \nNo signup required. Mats Provided. For rain cancellation info\, please contact the Front Desk.
URL:https://www.winnetu.com/event/functional-strength-with-alyssa-2/2026-08-21/
CATEGORIES:Functional Strength
ATTACH;FMTTYPE=image/png:https://www.winnetu.com/wp-content/uploads/2026/03/Untitled-600-x-600-px-22.png
END:VEVENT
BEGIN:VEVENT
DTSTART;TZID=America/New_York:20260821T080000
DTEND;TZID=America/New_York:20260821T090000
DTSTAMP:20260423T164057
CREATED:20260324T211246Z
LAST-MODIFIED:20260326T142502Z
UID:10002091-1787299200-1787302800@www.winnetu.com
SUMMARY:Yoga with Emily
DESCRIPTION:At the Winnetu\, you can enjoy complimentary yoga classes on the Hotel’s Front Lawn. \nNo signup required. Mats Provided. For rain cancellation info\, please contact the Front Desk.
URL:https://www.winnetu.com/event/yoga-with-emily-2/2026-08-21/
CATEGORIES:Yoga
ATTACH;FMTTYPE=image/png:https://www.winnetu.com/wp-content/uploads/2026/03/Untitled-600-x-600-px-23.png
END:VEVENT
BEGIN:VEVENT
DTSTART;TZID=America/New_York:20260821T091500
DTEND;TZID=America/New_York:20260821T100000
DTSTAMP:20260423T164057
CREATED:20260324T210143Z
LAST-MODIFIED:20260325T191012Z
UID:10002024-1787303700-1787306400@www.winnetu.com
SUMMARY:Functional Strength with Alyssa
DESCRIPTION:A full-body strength class centered on fundamental movement patterns—hinge\, squat\, push\, pull\, improving control & stability. \nNo signup required. Mats Provided. For rain cancellation info\, please contact the Front Desk.
URL:https://www.winnetu.com/event/functional-strength-with-alyssa-3/2026-08-21/
ATTACH;FMTTYPE=image/png:https://www.winnetu.com/wp-content/uploads/2026/03/Untitled-600-x-600-px-22.png
END:VEVENT
BEGIN:VEVENT
DTSTART;TZID=America/New_York:20260822T080000
DTEND;TZID=America/New_York:20260822T090000
DTSTAMP:20260423T164057
CREATED:20260324T211600Z
LAST-MODIFIED:20260326T142424Z
UID:10002124-1787385600-1787389200@www.winnetu.com
SUMMARY:Functional Strength with Alyssa
DESCRIPTION:A full-body strength class centered on fundamental movement patterns—hinge\, squat\, push\, pull\, improving control & stability. \nNo signup required. Mats Provided. For rain cancellation info\, please contact the Front Desk.
URL:https://www.winnetu.com/event/functional-strength-with-alyssa-4/2026-08-22/
CATEGORIES:Functional Strength
ATTACH;FMTTYPE=image/png:https://www.winnetu.com/wp-content/uploads/2026/03/Untitled-600-x-600-px-22.png
END:VEVENT
BEGIN:VEVENT
DTSTART;TZID=America/New_York:20260822T090000
DTEND;TZID=America/New_York:20260822T100000
DTSTAMP:20260423T164057
CREATED:20260324T212214Z
LAST-MODIFIED:20260325T185756Z
UID:10002177-1787389200-1787392800@www.winnetu.com
SUMMARY:Yoga with Emily
DESCRIPTION:At the Winnetu\, you can enjoy complimentary yoga classes on the Hotel’s Front Lawn. \nNo signup required. Mats Provided. For rain cancellation info\, please contact the Front Desk.
URL:https://www.winnetu.com/event/yoga-with-emily-3/2026-08-22/
CATEGORIES:Yoga
ATTACH;FMTTYPE=image/png:https://www.winnetu.com/wp-content/uploads/2026/03/Untitled-600-x-600-px-23.png
END:VEVENT
BEGIN:VEVENT
DTSTART;TZID=America/New_York:20260822T101500
DTEND;TZID=America/New_York:20260822T110000
DTSTAMP:20260423T164057
CREATED:20260325T152818Z
LAST-MODIFIED:20260325T185624Z
UID:10002210-1787393700-1787396400@www.winnetu.com
SUMMARY:Functional Strength with Alyssa
DESCRIPTION:A full-body strength class centered on fundamental movement patterns—hinge\, squat\, push\, pull\, improving control & stability. \nNo signup required. Mats Provided. For rain cancellation info\, please contact the Front Desk.
URL:https://www.winnetu.com/event/functional-strength/2026-08-22/
CATEGORIES:Functional Strength
ATTACH;FMTTYPE=image/png:https://www.winnetu.com/wp-content/uploads/2026/03/Untitled-600-x-600-px-22.png
END:VEVENT
BEGIN:VEVENT
DTSTART;TZID=America/New_York:20260824T071500
DTEND;TZID=America/New_York:20260824T080000
DTSTAMP:20260423T164057
CREATED:20260324T211001Z
LAST-MODIFIED:20260326T142547Z
UID:10002059-1787555700-1787558400@www.winnetu.com
SUMMARY:Functional Strength with Alyssa
DESCRIPTION:A full-body strength class centered on fundamental movement patterns—hinge\, squat\, push\, pull\, improving control & stability. \nNo signup required. Mats Provided. For rain cancellation info\, please contact the Front Desk.
URL:https://www.winnetu.com/event/functional-strength-with-alyssa-2/2026-08-24/
CATEGORIES:Functional Strength
ATTACH;FMTTYPE=image/png:https://www.winnetu.com/wp-content/uploads/2026/03/Untitled-600-x-600-px-22.png
END:VEVENT
BEGIN:VEVENT
DTSTART;TZID=America/New_York:20260824T080000
DTEND;TZID=America/New_York:20260824T090000
DTSTAMP:20260423T164057
CREATED:20260324T211246Z
LAST-MODIFIED:20260326T142502Z
UID:10002092-1787558400-1787562000@www.winnetu.com
SUMMARY:Yoga with Emily
DESCRIPTION:At the Winnetu\, you can enjoy complimentary yoga classes on the Hotel’s Front Lawn. \nNo signup required. Mats Provided. For rain cancellation info\, please contact the Front Desk.
URL:https://www.winnetu.com/event/yoga-with-emily-2/2026-08-24/
CATEGORIES:Yoga
ATTACH;FMTTYPE=image/png:https://www.winnetu.com/wp-content/uploads/2026/03/Untitled-600-x-600-px-23.png
END:VEVENT
BEGIN:VEVENT
DTSTART;TZID=America/New_York:20260824T091500
DTEND;TZID=America/New_York:20260824T100000
DTSTAMP:20260423T164057
CREATED:20260324T210143Z
LAST-MODIFIED:20260325T191012Z
UID:10002025-1787562900-1787565600@www.winnetu.com
SUMMARY:Functional Strength with Alyssa
DESCRIPTION:A full-body strength class centered on fundamental movement patterns—hinge\, squat\, push\, pull\, improving control & stability. \nNo signup required. Mats Provided. For rain cancellation info\, please contact the Front Desk.
URL:https://www.winnetu.com/event/functional-strength-with-alyssa-3/2026-08-24/
ATTACH;FMTTYPE=image/png:https://www.winnetu.com/wp-content/uploads/2026/03/Untitled-600-x-600-px-22.png
END:VEVENT
BEGIN:VEVENT
DTSTART;TZID=America/New_York:20260825T080000
DTEND;TZID=America/New_York:20260825T090000
DTSTAMP:20260423T164057
CREATED:20260324T211600Z
LAST-MODIFIED:20260326T142424Z
UID:10002125-1787644800-1787648400@www.winnetu.com
SUMMARY:Functional Strength with Alyssa
DESCRIPTION:A full-body strength class centered on fundamental movement patterns—hinge\, squat\, push\, pull\, improving control & stability. \nNo signup required. Mats Provided. For rain cancellation info\, please contact the Front Desk.
URL:https://www.winnetu.com/event/functional-strength-with-alyssa-4/2026-08-25/
CATEGORIES:Functional Strength
ATTACH;FMTTYPE=image/png:https://www.winnetu.com/wp-content/uploads/2026/03/Untitled-600-x-600-px-22.png
END:VEVENT
BEGIN:VEVENT
DTSTART;TZID=America/New_York:20260825T090000
DTEND;TZID=America/New_York:20260825T100000
DTSTAMP:20260423T164057
CREATED:20260324T212214Z
LAST-MODIFIED:20260325T185756Z
UID:10002178-1787648400-1787652000@www.winnetu.com
SUMMARY:Yoga with Emily
DESCRIPTION:At the Winnetu\, you can enjoy complimentary yoga classes on the Hotel’s Front Lawn. \nNo signup required. Mats Provided. For rain cancellation info\, please contact the Front Desk.
URL:https://www.winnetu.com/event/yoga-with-emily-3/2026-08-25/
CATEGORIES:Yoga
ATTACH;FMTTYPE=image/png:https://www.winnetu.com/wp-content/uploads/2026/03/Untitled-600-x-600-px-23.png
END:VEVENT
BEGIN:VEVENT
DTSTART;TZID=America/New_York:20260825T101500
DTEND;TZID=America/New_York:20260825T110000
DTSTAMP:20260423T164057
CREATED:20260325T152818Z
LAST-MODIFIED:20260325T185624Z
UID:10002211-1787652900-1787655600@www.winnetu.com
SUMMARY:Functional Strength with Alyssa
DESCRIPTION:A full-body strength class centered on fundamental movement patterns—hinge\, squat\, push\, pull\, improving control & stability. \nNo signup required. Mats Provided. For rain cancellation info\, please contact the Front Desk.
URL:https://www.winnetu.com/event/functional-strength/2026-08-25/
CATEGORIES:Functional Strength
ATTACH;FMTTYPE=image/png:https://www.winnetu.com/wp-content/uploads/2026/03/Untitled-600-x-600-px-22.png
END:VEVENT
END:VCALENDAR