BEGIN:VCALENDAR
VERSION:2.0
PRODID:-//Winnetu Oceanside Resort - ECPv6.15.20//NONSGML v1.0//EN
CALSCALE:GREGORIAN
METHOD:PUBLISH
X-WR-CALNAME:Winnetu Oceanside Resort
X-ORIGINAL-URL:https://www.winnetu.com
X-WR-CALDESC:Events for Winnetu Oceanside Resort
REFRESH-INTERVAL;VALUE=DURATION:PT1H
X-Robots-Tag:noindex
X-PUBLISHED-TTL:PT1H
BEGIN:VTIMEZONE
TZID:America/New_York
BEGIN:DAYLIGHT
TZOFFSETFROM:-0500
TZOFFSETTO:-0400
TZNAME:EDT
DTSTART:20250309T070000
END:DAYLIGHT
BEGIN:STANDARD
TZOFFSETFROM:-0400
TZOFFSETTO:-0500
TZNAME:EST
DTSTART:20251102T060000
END:STANDARD
BEGIN:DAYLIGHT
TZOFFSETFROM:-0500
TZOFFSETTO:-0400
TZNAME:EDT
DTSTART:20260308T070000
END:DAYLIGHT
BEGIN:STANDARD
TZOFFSETFROM:-0400
TZOFFSETTO:-0500
TZNAME:EST
DTSTART:20261101T060000
END:STANDARD
BEGIN:DAYLIGHT
TZOFFSETFROM:-0500
TZOFFSETTO:-0400
TZNAME:EDT
DTSTART:20270314T070000
END:DAYLIGHT
BEGIN:STANDARD
TZOFFSETFROM:-0400
TZOFFSETTO:-0500
TZNAME:EST
DTSTART:20271107T060000
END:STANDARD
END:VTIMEZONE
BEGIN:VEVENT
DTSTART;TZID=America/New_York:20260921T080000
DTEND;TZID=America/New_York:20260921T090000
DTSTAMP:20260420T100135
CREATED:20260324T211744Z
LAST-MODIFIED:20260326T152211Z
UID:10002142-1789977600-1789981200@www.winnetu.com
SUMMARY:Functional Strength with Alyssa
DESCRIPTION:A full-body strength class centered on fundamental movement patterns—hinge\, squat\, push\, pull\, improving control & stability. \nNo signup required. Mats Provided. For rain cancellation info\, please contact the Front Desk.
URL:https://www.winnetu.com/event/functional-strength-with-alyssa-5/2026-09-21/
LOCATION:MA
CATEGORIES:Functional Strength
ATTACH;FMTTYPE=image/png:https://www.winnetu.com/wp-content/uploads/2026/03/Untitled-600-x-600-px-22.png
END:VEVENT
BEGIN:VEVENT
DTSTART;TZID=America/New_York:20260922T080000
DTEND;TZID=America/New_York:20260922T090000
DTSTAMP:20260420T100135
CREATED:20260324T211744Z
LAST-MODIFIED:20260326T152211Z
UID:10002143-1790064000-1790067600@www.winnetu.com
SUMMARY:Functional Strength with Alyssa
DESCRIPTION:A full-body strength class centered on fundamental movement patterns—hinge\, squat\, push\, pull\, improving control & stability. \nNo signup required. Mats Provided. For rain cancellation info\, please contact the Front Desk.
URL:https://www.winnetu.com/event/functional-strength-with-alyssa-5/2026-09-22/
LOCATION:MA
CATEGORIES:Functional Strength
ATTACH;FMTTYPE=image/png:https://www.winnetu.com/wp-content/uploads/2026/03/Untitled-600-x-600-px-22.png
END:VEVENT
BEGIN:VEVENT
DTSTART;TZID=America/New_York:20260923T080000
DTEND;TZID=America/New_York:20260923T090000
DTSTAMP:20260420T100135
CREATED:20260324T211744Z
LAST-MODIFIED:20260326T152211Z
UID:10002144-1790150400-1790154000@www.winnetu.com
SUMMARY:Functional Strength with Alyssa
DESCRIPTION:A full-body strength class centered on fundamental movement patterns—hinge\, squat\, push\, pull\, improving control & stability. \nNo signup required. Mats Provided. For rain cancellation info\, please contact the Front Desk.
URL:https://www.winnetu.com/event/functional-strength-with-alyssa-5/2026-09-23/
LOCATION:MA
CATEGORIES:Functional Strength
ATTACH;FMTTYPE=image/png:https://www.winnetu.com/wp-content/uploads/2026/03/Untitled-600-x-600-px-22.png
END:VEVENT
BEGIN:VEVENT
DTSTART;TZID=America/New_York:20260924T080000
DTEND;TZID=America/New_York:20260924T090000
DTSTAMP:20260420T100135
CREATED:20260324T211744Z
LAST-MODIFIED:20260326T152211Z
UID:10002145-1790236800-1790240400@www.winnetu.com
SUMMARY:Functional Strength with Alyssa
DESCRIPTION:A full-body strength class centered on fundamental movement patterns—hinge\, squat\, push\, pull\, improving control & stability. \nNo signup required. Mats Provided. For rain cancellation info\, please contact the Front Desk.
URL:https://www.winnetu.com/event/functional-strength-with-alyssa-5/2026-09-24/
LOCATION:MA
CATEGORIES:Functional Strength
ATTACH;FMTTYPE=image/png:https://www.winnetu.com/wp-content/uploads/2026/03/Untitled-600-x-600-px-22.png
END:VEVENT
BEGIN:VEVENT
DTSTART;TZID=America/New_York:20260925T080000
DTEND;TZID=America/New_York:20260925T090000
DTSTAMP:20260420T100135
CREATED:20260324T211744Z
LAST-MODIFIED:20260326T152211Z
UID:10002146-1790323200-1790326800@www.winnetu.com
SUMMARY:Functional Strength with Alyssa
DESCRIPTION:A full-body strength class centered on fundamental movement patterns—hinge\, squat\, push\, pull\, improving control & stability. \nNo signup required. Mats Provided. For rain cancellation info\, please contact the Front Desk.
URL:https://www.winnetu.com/event/functional-strength-with-alyssa-5/2026-09-25/
LOCATION:MA
CATEGORIES:Functional Strength
ATTACH;FMTTYPE=image/png:https://www.winnetu.com/wp-content/uploads/2026/03/Untitled-600-x-600-px-22.png
END:VEVENT
BEGIN:VEVENT
DTSTART;TZID=America/New_York:20260926T080000
DTEND;TZID=America/New_York:20260926T090000
DTSTAMP:20260420T100135
CREATED:20260324T211744Z
LAST-MODIFIED:20260326T152211Z
UID:10002147-1790409600-1790413200@www.winnetu.com
SUMMARY:Functional Strength with Alyssa
DESCRIPTION:A full-body strength class centered on fundamental movement patterns—hinge\, squat\, push\, pull\, improving control & stability. \nNo signup required. Mats Provided. For rain cancellation info\, please contact the Front Desk.
URL:https://www.winnetu.com/event/functional-strength-with-alyssa-5/2026-09-26/
LOCATION:MA
CATEGORIES:Functional Strength
ATTACH;FMTTYPE=image/png:https://www.winnetu.com/wp-content/uploads/2026/03/Untitled-600-x-600-px-22.png
END:VEVENT
BEGIN:VEVENT
DTSTART;TZID=America/New_York:20260928T080000
DTEND;TZID=America/New_York:20260928T090000
DTSTAMP:20260420T100135
CREATED:20260324T211744Z
LAST-MODIFIED:20260326T152211Z
UID:10002148-1790582400-1790586000@www.winnetu.com
SUMMARY:Functional Strength with Alyssa
DESCRIPTION:A full-body strength class centered on fundamental movement patterns—hinge\, squat\, push\, pull\, improving control & stability. \nNo signup required. Mats Provided. For rain cancellation info\, please contact the Front Desk.
URL:https://www.winnetu.com/event/functional-strength-with-alyssa-5/2026-09-28/
LOCATION:MA
CATEGORIES:Functional Strength
ATTACH;FMTTYPE=image/png:https://www.winnetu.com/wp-content/uploads/2026/03/Untitled-600-x-600-px-22.png
END:VEVENT
BEGIN:VEVENT
DTSTART;TZID=America/New_York:20260929T080000
DTEND;TZID=America/New_York:20260929T090000
DTSTAMP:20260420T100135
CREATED:20260324T211744Z
LAST-MODIFIED:20260326T152211Z
UID:10002149-1790668800-1790672400@www.winnetu.com
SUMMARY:Functional Strength with Alyssa
DESCRIPTION:A full-body strength class centered on fundamental movement patterns—hinge\, squat\, push\, pull\, improving control & stability. \nNo signup required. Mats Provided. For rain cancellation info\, please contact the Front Desk.
URL:https://www.winnetu.com/event/functional-strength-with-alyssa-5/2026-09-29/
LOCATION:MA
CATEGORIES:Functional Strength
ATTACH;FMTTYPE=image/png:https://www.winnetu.com/wp-content/uploads/2026/03/Untitled-600-x-600-px-22.png
END:VEVENT
BEGIN:VEVENT
DTSTART;TZID=America/New_York:20260930T080000
DTEND;TZID=America/New_York:20260930T090000
DTSTAMP:20260420T100135
CREATED:20260324T211744Z
LAST-MODIFIED:20260326T152211Z
UID:10002150-1790755200-1790758800@www.winnetu.com
SUMMARY:Functional Strength with Alyssa
DESCRIPTION:A full-body strength class centered on fundamental movement patterns—hinge\, squat\, push\, pull\, improving control & stability. \nNo signup required. Mats Provided. For rain cancellation info\, please contact the Front Desk.
URL:https://www.winnetu.com/event/functional-strength-with-alyssa-5/2026-09-30/
LOCATION:MA
CATEGORIES:Functional Strength
ATTACH;FMTTYPE=image/png:https://www.winnetu.com/wp-content/uploads/2026/03/Untitled-600-x-600-px-22.png
END:VEVENT
END:VCALENDAR