BEGIN:VCALENDAR
VERSION:2.0
PRODID:-//Winnetu Oceanside Resort - ECPv6.15.20//NONSGML v1.0//EN
CALSCALE:GREGORIAN
METHOD:PUBLISH
X-WR-CALNAME:Winnetu Oceanside Resort
X-ORIGINAL-URL:https://www.winnetu.com
X-WR-CALDESC:Events for Winnetu Oceanside Resort
REFRESH-INTERVAL;VALUE=DURATION:PT1H
X-Robots-Tag:noindex
X-PUBLISHED-TTL:PT1H
BEGIN:VTIMEZONE
TZID:America/New_York
BEGIN:DAYLIGHT
TZOFFSETFROM:-0500
TZOFFSETTO:-0400
TZNAME:EDT
DTSTART:20250309T070000
END:DAYLIGHT
BEGIN:STANDARD
TZOFFSETFROM:-0400
TZOFFSETTO:-0500
TZNAME:EST
DTSTART:20251102T060000
END:STANDARD
BEGIN:DAYLIGHT
TZOFFSETFROM:-0500
TZOFFSETTO:-0400
TZNAME:EDT
DTSTART:20260308T070000
END:DAYLIGHT
BEGIN:STANDARD
TZOFFSETFROM:-0400
TZOFFSETTO:-0500
TZNAME:EST
DTSTART:20261101T060000
END:STANDARD
BEGIN:DAYLIGHT
TZOFFSETFROM:-0500
TZOFFSETTO:-0400
TZNAME:EDT
DTSTART:20270314T070000
END:DAYLIGHT
BEGIN:STANDARD
TZOFFSETFROM:-0400
TZOFFSETTO:-0500
TZNAME:EST
DTSTART:20271107T060000
END:STANDARD
END:VTIMEZONE
BEGIN:VEVENT
DTSTART;TZID=America/New_York:20260618T080000
DTEND;TZID=America/New_York:20260618T090000
DTSTAMP:20260423T063936
CREATED:20260323T170815Z
LAST-MODIFIED:20260325T190026Z
UID:10000592-1781769600-1781773200@www.winnetu.com
SUMMARY:Functional Strength with Alyssa
DESCRIPTION:A full-body strength class centered on fundamental movement patterns—hinge\, squat\, push\, pull\, improving control & stability. \nNo signup required. Mats Provided. For rain cancellation info\, please contact the Front Desk.
URL:https://www.winnetu.com/event/functional-strength-with-alyssa/2026-06-18/
LOCATION:The Winnetu’s Front Lawn\, 31 Dunes Road\, Edgartown\, MA\, United States
CATEGORIES:Functional Strength
ATTACH;FMTTYPE=image/png:https://www.winnetu.com/wp-content/uploads/2026/03/Untitled-600-x-600-px-22.png
END:VEVENT
BEGIN:VEVENT
DTSTART;TZID=America/New_York:20260618T090000
DTEND;TZID=America/New_York:20260618T100000
DTSTAMP:20260423T063936
CREATED:20260323T171400Z
LAST-MODIFIED:20260325T185849Z
UID:10000031-1781773200-1781776800@www.winnetu.com
SUMMARY:Yoga with Emily
DESCRIPTION:At the Winnetu\, you can enjoy complimentary yoga classes on the Hotel’s Front Lawn. \nNo signup required. Mats Provided. For rain cancellation info\, please contact the Front Desk.
URL:https://www.winnetu.com/event/yoga-with-emily/2026-06-18/
LOCATION:The Winnetu’s Front Lawn\, 31 Dunes Road\, Edgartown\, MA\, United States
CATEGORIES:Yoga
ATTACH;FMTTYPE=image/png:https://www.winnetu.com/wp-content/uploads/2026/03/Untitled-600-x-600-px-23.png
END:VEVENT
BEGIN:VEVENT
DTSTART;TZID=America/New_York:20260618T170000
DTEND;TZID=America/New_York:20260618T180000
DTSTAMP:20260423T063936
CREATED:20260324T205047Z
LAST-MODIFIED:20260325T190737Z
UID:10000522-1781802000-1781805600@www.winnetu.com
SUMMARY:Prosecco Pilates with Randi
DESCRIPTION:
URL:https://www.winnetu.com/event/prosecco-pilates-with-randi/2026-06-18/
CATEGORIES:Pilates
ATTACH;FMTTYPE=image/png:https://www.winnetu.com/wp-content/uploads/2026/03/Untitled-600-x-600-px-24.png
END:VEVENT
END:VCALENDAR